BEGIN:VCALENDAR
VERSION:2.0
PRODID:-//Gadfly Bar - ECPv6.15.18//NONSGML v1.0//EN
CALSCALE:GREGORIAN
METHOD:PUBLISH
X-WR-CALNAME:Gadfly Bar
X-ORIGINAL-URL:https://gadflybar.com
X-WR-CALDESC:Events for Gadfly Bar
REFRESH-INTERVAL;VALUE=DURATION:PT1H
X-Robots-Tag:noindex
X-PUBLISHED-TTL:PT1H
BEGIN:VTIMEZONE
TZID:America/New_York
BEGIN:DAYLIGHT
TZOFFSETFROM:-0500
TZOFFSETTO:-0400
TZNAME:EDT
DTSTART:20240310T070000
END:DAYLIGHT
BEGIN:STANDARD
TZOFFSETFROM:-0400
TZOFFSETTO:-0500
TZNAME:EST
DTSTART:20241103T060000
END:STANDARD
BEGIN:DAYLIGHT
TZOFFSETFROM:-0500
TZOFFSETTO:-0400
TZNAME:EDT
DTSTART:20250309T070000
END:DAYLIGHT
BEGIN:STANDARD
TZOFFSETFROM:-0400
TZOFFSETTO:-0500
TZNAME:EST
DTSTART:20251102T060000
END:STANDARD
BEGIN:DAYLIGHT
TZOFFSETFROM:-0500
TZOFFSETTO:-0400
TZNAME:EDT
DTSTART:20260308T070000
END:DAYLIGHT
BEGIN:STANDARD
TZOFFSETFROM:-0400
TZOFFSETTO:-0500
TZNAME:EST
DTSTART:20261101T060000
END:STANDARD
BEGIN:DAYLIGHT
TZOFFSETFROM:-0500
TZOFFSETTO:-0400
TZNAME:EDT
DTSTART:20270314T070000
END:DAYLIGHT
BEGIN:STANDARD
TZOFFSETFROM:-0400
TZOFFSETTO:-0500
TZNAME:EST
DTSTART:20271107T060000
END:STANDARD
END:VTIMEZONE
BEGIN:VEVENT
DTSTART;TZID=America/New_York:20251104T190000
DTEND;TZID=America/New_York:20251104T210000
DTSTAMP:20260421T054517
CREATED:20230821T185236Z
LAST-MODIFIED:20260402T202518Z
UID:10000455-1762282800-1762290000@gadflybar.com
SUMMARY:Trivia Tuesday
DESCRIPTION:Drinks! Prizes! Come alone or with a group. $5 entry fee\, 6 person max group size. Follow @reverendsal for trivia hints.
URL:https://gadflybar.com/event/trivia-tuesday/2025-11-04/
LOCATION:Gadfly Bar\, 258 W 15th Street\, New York\, NY\, 10011\, United States
GEO:40.7400647;-74.0016637
X-APPLE-STRUCTURED-LOCATION;VALUE=URI;X-ADDRESS=Gadfly Bar 258 W 15th Street New York NY 10011 United States;X-APPLE-RADIUS=500;X-TITLE=258 W 15th Street:geo:-74.0016637,40.7400647
END:VEVENT
BEGIN:VEVENT
DTSTART;TZID=America/New_York:20251111T190000
DTEND;TZID=America/New_York:20251111T210000
DTSTAMP:20260421T054517
CREATED:20230821T185236Z
LAST-MODIFIED:20260402T202518Z
UID:10000456-1762887600-1762894800@gadflybar.com
SUMMARY:Trivia Tuesday
DESCRIPTION:Drinks! Prizes! Come alone or with a group. $5 entry fee\, 6 person max group size. Follow @reverendsal for trivia hints.
URL:https://gadflybar.com/event/trivia-tuesday/2025-11-11/
LOCATION:Gadfly Bar\, 258 W 15th Street\, New York\, NY\, 10011\, United States
GEO:40.7400647;-74.0016637
X-APPLE-STRUCTURED-LOCATION;VALUE=URI;X-ADDRESS=Gadfly Bar 258 W 15th Street New York NY 10011 United States;X-APPLE-RADIUS=500;X-TITLE=258 W 15th Street:geo:-74.0016637,40.7400647
END:VEVENT
BEGIN:VEVENT
DTSTART;TZID=America/New_York:20251113T183000
DTEND;TZID=America/New_York:20251113T210000
DTSTAMP:20260421T054517
CREATED:20230908T125640Z
LAST-MODIFIED:20260127T212200Z
UID:10000460-1763058600-1763067600@gadflybar.com
SUMMARY:Live Music / Ilandria
DESCRIPTION:Tunes with @ilandriamusic 🎵
URL:https://gadflybar.com/event/live-music-ilandria/2025-11-13/
LOCATION:Gadfly Bar\, 258 W 15th Street\, New York\, NY\, 10011\, United States
GEO:40.7400647;-74.0016637
X-APPLE-STRUCTURED-LOCATION;VALUE=URI;X-ADDRESS=Gadfly Bar 258 W 15th Street New York NY 10011 United States;X-APPLE-RADIUS=500;X-TITLE=258 W 15th Street:geo:-74.0016637,40.7400647
END:VEVENT
BEGIN:VEVENT
DTSTART;TZID=America/New_York:20251118T190000
DTEND;TZID=America/New_York:20251118T210000
DTSTAMP:20260421T054517
CREATED:20230821T185236Z
LAST-MODIFIED:20260402T202518Z
UID:10000457-1763492400-1763499600@gadflybar.com
SUMMARY:Trivia Tuesday
DESCRIPTION:Drinks! Prizes! Come alone or with a group. $5 entry fee\, 6 person max group size. Follow @reverendsal for trivia hints.
URL:https://gadflybar.com/event/trivia-tuesday/2025-11-18/
LOCATION:Gadfly Bar\, 258 W 15th Street\, New York\, NY\, 10011\, United States
GEO:40.7400647;-74.0016637
X-APPLE-STRUCTURED-LOCATION;VALUE=URI;X-ADDRESS=Gadfly Bar 258 W 15th Street New York NY 10011 United States;X-APPLE-RADIUS=500;X-TITLE=258 W 15th Street:geo:-74.0016637,40.7400647
END:VEVENT
BEGIN:VEVENT
DTSTART;TZID=America/New_York:20251125T190000
DTEND;TZID=America/New_York:20251125T210000
DTSTAMP:20260421T054517
CREATED:20230821T185236Z
LAST-MODIFIED:20260402T202518Z
UID:10000458-1764097200-1764104400@gadflybar.com
SUMMARY:Trivia Tuesday
DESCRIPTION:Drinks! Prizes! Come alone or with a group. $5 entry fee\, 6 person max group size. Follow @reverendsal for trivia hints.
URL:https://gadflybar.com/event/trivia-tuesday/2025-11-25/
LOCATION:Gadfly Bar\, 258 W 15th Street\, New York\, NY\, 10011\, United States
GEO:40.7400647;-74.0016637
X-APPLE-STRUCTURED-LOCATION;VALUE=URI;X-ADDRESS=Gadfly Bar 258 W 15th Street New York NY 10011 United States;X-APPLE-RADIUS=500;X-TITLE=258 W 15th Street:geo:-74.0016637,40.7400647
END:VEVENT
BEGIN:VEVENT
DTSTART;TZID=America/New_York:20251202T190000
DTEND;TZID=America/New_York:20251202T210000
DTSTAMP:20260421T054517
CREATED:20230821T185236Z
LAST-MODIFIED:20260402T202518Z
UID:10000461-1764702000-1764709200@gadflybar.com
SUMMARY:Trivia Tuesday
DESCRIPTION:Drinks! Prizes! Come alone or with a group. $5 entry fee\, 6 person max group size. Follow @reverendsal for trivia hints.
URL:https://gadflybar.com/event/trivia-tuesday/2025-12-02/
LOCATION:Gadfly Bar\, 258 W 15th Street\, New York\, NY\, 10011\, United States
GEO:40.7400647;-74.0016637
X-APPLE-STRUCTURED-LOCATION;VALUE=URI;X-ADDRESS=Gadfly Bar 258 W 15th Street New York NY 10011 United States;X-APPLE-RADIUS=500;X-TITLE=258 W 15th Street:geo:-74.0016637,40.7400647
END:VEVENT
BEGIN:VEVENT
DTSTART;TZID=America/New_York:20251209T190000
DTEND;TZID=America/New_York:20251209T210000
DTSTAMP:20260421T054517
CREATED:20230821T185236Z
LAST-MODIFIED:20260402T202518Z
UID:10000462-1765306800-1765314000@gadflybar.com
SUMMARY:Trivia Tuesday
DESCRIPTION:Drinks! Prizes! Come alone or with a group. $5 entry fee\, 6 person max group size. Follow @reverendsal for trivia hints.
URL:https://gadflybar.com/event/trivia-tuesday/2025-12-09/
LOCATION:Gadfly Bar\, 258 W 15th Street\, New York\, NY\, 10011\, United States
GEO:40.7400647;-74.0016637
X-APPLE-STRUCTURED-LOCATION;VALUE=URI;X-ADDRESS=Gadfly Bar 258 W 15th Street New York NY 10011 United States;X-APPLE-RADIUS=500;X-TITLE=258 W 15th Street:geo:-74.0016637,40.7400647
END:VEVENT
BEGIN:VEVENT
DTSTART;TZID=America/New_York:20251211T183000
DTEND;TZID=America/New_York:20251211T210000
DTSTAMP:20260421T054517
CREATED:20251208T223043Z
LAST-MODIFIED:20251208T223043Z
UID:10000464-1765477800-1765486800@gadflybar.com
SUMMARY:Live Holiday Music / Ilandria
DESCRIPTION:Get in the Christmas spirit and hear all your faves. Holiday tunes with @ilandriamusic and @jackgrubermusic. No cover.
URL:https://gadflybar.com/event/live-holiday-music-ilandria/
LOCATION:Gadfly Bar\, 258 W 15th Street\, New York\, NY\, 10011\, United States
GEO:40.7400647;-74.0016637
X-APPLE-STRUCTURED-LOCATION;VALUE=URI;X-ADDRESS=Gadfly Bar 258 W 15th Street New York NY 10011 United States;X-APPLE-RADIUS=500;X-TITLE=258 W 15th Street:geo:-74.0016637,40.7400647
END:VEVENT
BEGIN:VEVENT
DTSTART;TZID=America/New_York:20251216T190000
DTEND;TZID=America/New_York:20251216T210000
DTSTAMP:20260421T054517
CREATED:20230821T185236Z
LAST-MODIFIED:20260402T202518Z
UID:10000463-1765911600-1765918800@gadflybar.com
SUMMARY:Trivia Tuesday
DESCRIPTION:Drinks! Prizes! Come alone or with a group. $5 entry fee\, 6 person max group size. Follow @reverendsal for trivia hints.
URL:https://gadflybar.com/event/trivia-tuesday/2025-12-16/
LOCATION:Gadfly Bar\, 258 W 15th Street\, New York\, NY\, 10011\, United States
GEO:40.7400647;-74.0016637
X-APPLE-STRUCTURED-LOCATION;VALUE=URI;X-ADDRESS=Gadfly Bar 258 W 15th Street New York NY 10011 United States;X-APPLE-RADIUS=500;X-TITLE=258 W 15th Street:geo:-74.0016637,40.7400647
END:VEVENT
BEGIN:VEVENT
DTSTART;TZID=America/New_York:20260106T190000
DTEND;TZID=America/New_York:20260106T210000
DTSTAMP:20260421T054517
CREATED:20230821T185236Z
LAST-MODIFIED:20260402T202518Z
UID:10000465-1767726000-1767733200@gadflybar.com
SUMMARY:Trivia Tuesday
DESCRIPTION:Drinks! Prizes! Come alone or with a group. $5 entry fee\, 6 person max group size. Follow @reverendsal for trivia hints.
URL:https://gadflybar.com/event/trivia-tuesday/2026-01-06/
LOCATION:Gadfly Bar\, 258 W 15th Street\, New York\, NY\, 10011\, United States
GEO:40.7400647;-74.0016637
X-APPLE-STRUCTURED-LOCATION;VALUE=URI;X-ADDRESS=Gadfly Bar 258 W 15th Street New York NY 10011 United States;X-APPLE-RADIUS=500;X-TITLE=258 W 15th Street:geo:-74.0016637,40.7400647
END:VEVENT
BEGIN:VEVENT
DTSTART;TZID=America/New_York:20260113T190000
DTEND;TZID=America/New_York:20260113T210000
DTSTAMP:20260421T054517
CREATED:20230821T185236Z
LAST-MODIFIED:20260402T202518Z
UID:10000466-1768330800-1768338000@gadflybar.com
SUMMARY:Trivia Tuesday
DESCRIPTION:Drinks! Prizes! Come alone or with a group. $5 entry fee\, 6 person max group size. Follow @reverendsal for trivia hints.
URL:https://gadflybar.com/event/trivia-tuesday/2026-01-13/
LOCATION:Gadfly Bar\, 258 W 15th Street\, New York\, NY\, 10011\, United States
GEO:40.7400647;-74.0016637
X-APPLE-STRUCTURED-LOCATION;VALUE=URI;X-ADDRESS=Gadfly Bar 258 W 15th Street New York NY 10011 United States;X-APPLE-RADIUS=500;X-TITLE=258 W 15th Street:geo:-74.0016637,40.7400647
END:VEVENT
BEGIN:VEVENT
DTSTART;TZID=America/New_York:20260120T190000
DTEND;TZID=America/New_York:20260120T210000
DTSTAMP:20260421T054517
CREATED:20230821T185236Z
LAST-MODIFIED:20260402T202518Z
UID:10000467-1768935600-1768942800@gadflybar.com
SUMMARY:Trivia Tuesday
DESCRIPTION:Drinks! Prizes! Come alone or with a group. $5 entry fee\, 6 person max group size. Follow @reverendsal for trivia hints.
URL:https://gadflybar.com/event/trivia-tuesday/2026-01-20/
LOCATION:Gadfly Bar\, 258 W 15th Street\, New York\, NY\, 10011\, United States
GEO:40.7400647;-74.0016637
X-APPLE-STRUCTURED-LOCATION;VALUE=URI;X-ADDRESS=Gadfly Bar 258 W 15th Street New York NY 10011 United States;X-APPLE-RADIUS=500;X-TITLE=258 W 15th Street:geo:-74.0016637,40.7400647
END:VEVENT
BEGIN:VEVENT
DTSTART;TZID=America/New_York:20260127T190000
DTEND;TZID=America/New_York:20260127T210000
DTSTAMP:20260421T054517
CREATED:20230821T185236Z
LAST-MODIFIED:20260402T202518Z
UID:10000468-1769540400-1769547600@gadflybar.com
SUMMARY:Trivia Tuesday
DESCRIPTION:Drinks! Prizes! Come alone or with a group. $5 entry fee\, 6 person max group size. Follow @reverendsal for trivia hints.
URL:https://gadflybar.com/event/trivia-tuesday/2026-01-27/
LOCATION:Gadfly Bar\, 258 W 15th Street\, New York\, NY\, 10011\, United States
GEO:40.7400647;-74.0016637
X-APPLE-STRUCTURED-LOCATION;VALUE=URI;X-ADDRESS=Gadfly Bar 258 W 15th Street New York NY 10011 United States;X-APPLE-RADIUS=500;X-TITLE=258 W 15th Street:geo:-74.0016637,40.7400647
END:VEVENT
BEGIN:VEVENT
DTSTART;TZID=America/New_York:20260203T190000
DTEND;TZID=America/New_York:20260203T210000
DTSTAMP:20260421T054517
CREATED:20230821T185236Z
LAST-MODIFIED:20260402T202518Z
UID:10000471-1770145200-1770152400@gadflybar.com
SUMMARY:Trivia Tuesday
DESCRIPTION:Drinks! Prizes! Come alone or with a group. $5 entry fee\, 6 person max group size. Follow @reverendsal for trivia hints.
URL:https://gadflybar.com/event/trivia-tuesday/2026-02-03/
LOCATION:Gadfly Bar\, 258 W 15th Street\, New York\, NY\, 10011\, United States
GEO:40.7400647;-74.0016637
X-APPLE-STRUCTURED-LOCATION;VALUE=URI;X-ADDRESS=Gadfly Bar 258 W 15th Street New York NY 10011 United States;X-APPLE-RADIUS=500;X-TITLE=258 W 15th Street:geo:-74.0016637,40.7400647
END:VEVENT
BEGIN:VEVENT
DTSTART;TZID=America/New_York:20260208T180000
DTEND;TZID=America/New_York:20260208T220000
DTSTAMP:20260421T054517
CREATED:20260126T212706Z
LAST-MODIFIED:20260126T212706Z
UID:10000469-1770573600-1770588000@gadflybar.com
SUMMARY:Big Game Sunday
DESCRIPTION:Super Big Game LX… New England Patriots vs. Seattle Seahawks! \nSpecials: $5 Hot Dog\, $10 Hot Dog + Beer
URL:https://gadflybar.com/event/big-game-sunday/
LOCATION:Gadfly Bar\, 258 W 15th Street\, New York\, NY\, 10011\, United States
GEO:40.7400647;-74.0016637
X-APPLE-STRUCTURED-LOCATION;VALUE=URI;X-ADDRESS=Gadfly Bar 258 W 15th Street New York NY 10011 United States;X-APPLE-RADIUS=500;X-TITLE=258 W 15th Street:geo:-74.0016637,40.7400647
END:VEVENT
BEGIN:VEVENT
DTSTART;TZID=America/New_York:20260210T190000
DTEND;TZID=America/New_York:20260210T210000
DTSTAMP:20260421T054517
CREATED:20230821T185236Z
LAST-MODIFIED:20260402T202518Z
UID:10000472-1770750000-1770757200@gadflybar.com
SUMMARY:Trivia Tuesday
DESCRIPTION:Drinks! Prizes! Come alone or with a group. $5 entry fee\, 6 person max group size. Follow @reverendsal for trivia hints.
URL:https://gadflybar.com/event/trivia-tuesday/2026-02-10/
LOCATION:Gadfly Bar\, 258 W 15th Street\, New York\, NY\, 10011\, United States
GEO:40.7400647;-74.0016637
X-APPLE-STRUCTURED-LOCATION;VALUE=URI;X-ADDRESS=Gadfly Bar 258 W 15th Street New York NY 10011 United States;X-APPLE-RADIUS=500;X-TITLE=258 W 15th Street:geo:-74.0016637,40.7400647
END:VEVENT
BEGIN:VEVENT
DTSTART;TZID=America/New_York:20260212T183000
DTEND;TZID=America/New_York:20260212T210000
DTSTAMP:20260421T054517
CREATED:20230908T125640Z
LAST-MODIFIED:20260127T212200Z
UID:10000470-1770921000-1770930000@gadflybar.com
SUMMARY:Live Music / Ilandria
DESCRIPTION:Tunes with @ilandriamusic 🎵
URL:https://gadflybar.com/event/live-music-ilandria/2026-02-12/
LOCATION:Gadfly Bar\, 258 W 15th Street\, New York\, NY\, 10011\, United States
GEO:40.7400647;-74.0016637
X-APPLE-STRUCTURED-LOCATION;VALUE=URI;X-ADDRESS=Gadfly Bar 258 W 15th Street New York NY 10011 United States;X-APPLE-RADIUS=500;X-TITLE=258 W 15th Street:geo:-74.0016637,40.7400647
END:VEVENT
BEGIN:VEVENT
DTSTART;TZID=America/New_York:20260224T190000
DTEND;TZID=America/New_York:20260224T210000
DTSTAMP:20260421T054517
CREATED:20230821T185236Z
LAST-MODIFIED:20260402T202518Z
UID:10000473-1771959600-1771966800@gadflybar.com
SUMMARY:Trivia Tuesday
DESCRIPTION:Drinks! Prizes! Come alone or with a group. $5 entry fee\, 6 person max group size. Follow @reverendsal for trivia hints.
URL:https://gadflybar.com/event/trivia-tuesday/2026-02-24/
LOCATION:Gadfly Bar\, 258 W 15th Street\, New York\, NY\, 10011\, United States
GEO:40.7400647;-74.0016637
X-APPLE-STRUCTURED-LOCATION;VALUE=URI;X-ADDRESS=Gadfly Bar 258 W 15th Street New York NY 10011 United States;X-APPLE-RADIUS=500;X-TITLE=258 W 15th Street:geo:-74.0016637,40.7400647
END:VEVENT
BEGIN:VEVENT
DTSTART;TZID=America/New_York:20260303T190000
DTEND;TZID=America/New_York:20260303T210000
DTSTAMP:20260421T054517
CREATED:20230821T185236Z
LAST-MODIFIED:20260402T202518Z
UID:10000475-1772564400-1772571600@gadflybar.com
SUMMARY:Trivia Tuesday
DESCRIPTION:Drinks! Prizes! Come alone or with a group. $5 entry fee\, 6 person max group size. Follow @reverendsal for trivia hints.
URL:https://gadflybar.com/event/trivia-tuesday/2026-03-03/
LOCATION:Gadfly Bar\, 258 W 15th Street\, New York\, NY\, 10011\, United States
GEO:40.7400647;-74.0016637
X-APPLE-STRUCTURED-LOCATION;VALUE=URI;X-ADDRESS=Gadfly Bar 258 W 15th Street New York NY 10011 United States;X-APPLE-RADIUS=500;X-TITLE=258 W 15th Street:geo:-74.0016637,40.7400647
END:VEVENT
BEGIN:VEVENT
DTSTART;TZID=America/New_York:20260310T190000
DTEND;TZID=America/New_York:20260310T210000
DTSTAMP:20260421T054517
CREATED:20230821T185236Z
LAST-MODIFIED:20260402T202518Z
UID:10000476-1773169200-1773176400@gadflybar.com
SUMMARY:Trivia Tuesday
DESCRIPTION:Drinks! Prizes! Come alone or with a group. $5 entry fee\, 6 person max group size. Follow @reverendsal for trivia hints.
URL:https://gadflybar.com/event/trivia-tuesday/2026-03-10/
LOCATION:Gadfly Bar\, 258 W 15th Street\, New York\, NY\, 10011\, United States
GEO:40.7400647;-74.0016637
X-APPLE-STRUCTURED-LOCATION;VALUE=URI;X-ADDRESS=Gadfly Bar 258 W 15th Street New York NY 10011 United States;X-APPLE-RADIUS=500;X-TITLE=258 W 15th Street:geo:-74.0016637,40.7400647
END:VEVENT
BEGIN:VEVENT
DTSTART;TZID=America/New_York:20260317T170000
DTEND;TZID=America/New_York:20260317T210000
DTSTAMP:20260421T054517
CREATED:20260302T162640Z
LAST-MODIFIED:20260302T162640Z
UID:10000474-1773766800-1773781200@gadflybar.com
SUMMARY:MUSIC / Saint Patrick's Day
DESCRIPTION:Open all day with live music at 5pm! 🍀
URL:https://gadflybar.com/event/music-saint-patricks-day/
LOCATION:Gadfly Bar\, 258 W 15th Street\, New York\, NY\, 10011\, United States
GEO:40.7400647;-74.0016637
X-APPLE-STRUCTURED-LOCATION;VALUE=URI;X-ADDRESS=Gadfly Bar 258 W 15th Street New York NY 10011 United States;X-APPLE-RADIUS=500;X-TITLE=258 W 15th Street:geo:-74.0016637,40.7400647
END:VEVENT
BEGIN:VEVENT
DTSTART;TZID=America/New_York:20260324T190000
DTEND;TZID=America/New_York:20260324T210000
DTSTAMP:20260421T054517
CREATED:20230821T185236Z
LAST-MODIFIED:20260402T202518Z
UID:10000477-1774378800-1774386000@gadflybar.com
SUMMARY:Trivia Tuesday
DESCRIPTION:Drinks! Prizes! Come alone or with a group. $5 entry fee\, 6 person max group size. Follow @reverendsal for trivia hints.
URL:https://gadflybar.com/event/trivia-tuesday/2026-03-24/
LOCATION:Gadfly Bar\, 258 W 15th Street\, New York\, NY\, 10011\, United States
GEO:40.7400647;-74.0016637
X-APPLE-STRUCTURED-LOCATION;VALUE=URI;X-ADDRESS=Gadfly Bar 258 W 15th Street New York NY 10011 United States;X-APPLE-RADIUS=500;X-TITLE=258 W 15th Street:geo:-74.0016637,40.7400647
END:VEVENT
BEGIN:VEVENT
DTSTART;TZID=America/New_York:20260331T190000
DTEND;TZID=America/New_York:20260331T210000
DTSTAMP:20260421T054517
CREATED:20230821T185236Z
LAST-MODIFIED:20260402T202518Z
UID:10000478-1774983600-1774990800@gadflybar.com
SUMMARY:Trivia Tuesday
DESCRIPTION:Drinks! Prizes! Come alone or with a group. $5 entry fee\, 6 person max group size. Follow @reverendsal for trivia hints.
URL:https://gadflybar.com/event/trivia-tuesday/2026-03-31/
LOCATION:Gadfly Bar\, 258 W 15th Street\, New York\, NY\, 10011\, United States
GEO:40.7400647;-74.0016637
X-APPLE-STRUCTURED-LOCATION;VALUE=URI;X-ADDRESS=Gadfly Bar 258 W 15th Street New York NY 10011 United States;X-APPLE-RADIUS=500;X-TITLE=258 W 15th Street:geo:-74.0016637,40.7400647
END:VEVENT
BEGIN:VEVENT
DTSTART;TZID=America/New_York:20260407T190000
DTEND;TZID=America/New_York:20260407T210000
DTSTAMP:20260421T054517
CREATED:20230821T185236Z
LAST-MODIFIED:20260402T202518Z
UID:10000479-1775588400-1775595600@gadflybar.com
SUMMARY:Trivia Tuesday
DESCRIPTION:Drinks! Prizes! Come alone or with a group. $5 entry fee\, 6 person max group size. Follow @reverendsal for trivia hints.
URL:https://gadflybar.com/event/trivia-tuesday/2026-04-07/
LOCATION:Gadfly Bar\, 258 W 15th Street\, New York\, NY\, 10011\, United States
GEO:40.7400647;-74.0016637
X-APPLE-STRUCTURED-LOCATION;VALUE=URI;X-ADDRESS=Gadfly Bar 258 W 15th Street New York NY 10011 United States;X-APPLE-RADIUS=500;X-TITLE=258 W 15th Street:geo:-74.0016637,40.7400647
END:VEVENT
BEGIN:VEVENT
DTSTART;TZID=America/New_York:20260414T190000
DTEND;TZID=America/New_York:20260414T210000
DTSTAMP:20260421T054517
CREATED:20230821T185236Z
LAST-MODIFIED:20260402T202518Z
UID:10000480-1776193200-1776200400@gadflybar.com
SUMMARY:Trivia Tuesday
DESCRIPTION:Drinks! Prizes! Come alone or with a group. $5 entry fee\, 6 person max group size. Follow @reverendsal for trivia hints.
URL:https://gadflybar.com/event/trivia-tuesday/2026-04-14/
LOCATION:Gadfly Bar\, 258 W 15th Street\, New York\, NY\, 10011\, United States
GEO:40.7400647;-74.0016637
X-APPLE-STRUCTURED-LOCATION;VALUE=URI;X-ADDRESS=Gadfly Bar 258 W 15th Street New York NY 10011 United States;X-APPLE-RADIUS=500;X-TITLE=258 W 15th Street:geo:-74.0016637,40.7400647
END:VEVENT
BEGIN:VEVENT
DTSTART;TZID=America/New_York:20260421T190000
DTEND;TZID=America/New_York:20260421T210000
DTSTAMP:20260421T054517
CREATED:20230821T185236Z
LAST-MODIFIED:20260402T202518Z
UID:10000481-1776798000-1776805200@gadflybar.com
SUMMARY:Trivia Tuesday
DESCRIPTION:Drinks! Prizes! Come alone or with a group. $5 entry fee\, 6 person max group size. Follow @reverendsal for trivia hints.
URL:https://gadflybar.com/event/trivia-tuesday/2026-04-21/
LOCATION:Gadfly Bar\, 258 W 15th Street\, New York\, NY\, 10011\, United States
GEO:40.7400647;-74.0016637
X-APPLE-STRUCTURED-LOCATION;VALUE=URI;X-ADDRESS=Gadfly Bar 258 W 15th Street New York NY 10011 United States;X-APPLE-RADIUS=500;X-TITLE=258 W 15th Street:geo:-74.0016637,40.7400647
END:VEVENT
BEGIN:VEVENT
DTSTART;TZID=America/New_York:20260428T190000
DTEND;TZID=America/New_York:20260428T210000
DTSTAMP:20260421T054517
CREATED:20230821T185236Z
LAST-MODIFIED:20260402T202518Z
UID:10000482-1777402800-1777410000@gadflybar.com
SUMMARY:Trivia Tuesday
DESCRIPTION:Drinks! Prizes! Come alone or with a group. $5 entry fee\, 6 person max group size. Follow @reverendsal for trivia hints.
URL:https://gadflybar.com/event/trivia-tuesday/2026-04-28/
LOCATION:Gadfly Bar\, 258 W 15th Street\, New York\, NY\, 10011\, United States
GEO:40.7400647;-74.0016637
X-APPLE-STRUCTURED-LOCATION;VALUE=URI;X-ADDRESS=Gadfly Bar 258 W 15th Street New York NY 10011 United States;X-APPLE-RADIUS=500;X-TITLE=258 W 15th Street:geo:-74.0016637,40.7400647
END:VEVENT
END:VCALENDAR